BEGIN:VCALENDAR
VERSION:2.0
PRODID:-//Lowell Observatory - ECPv6.15.20//NONSGML v1.0//EN
CALSCALE:GREGORIAN
METHOD:PUBLISH
X-ORIGINAL-URL:https://lowell.edu
X-WR-CALDESC:Events for Lowell Observatory
REFRESH-INTERVAL;VALUE=DURATION:PT1H
X-Robots-Tag:noindex
X-PUBLISHED-TTL:PT1H
BEGIN:VTIMEZONE
TZID:America/Phoenix
BEGIN:STANDARD
TZOFFSETFROM:-0700
TZOFFSETTO:-0700
TZNAME:MST
DTSTART:20240101T000000
END:STANDARD
END:VTIMEZONE
BEGIN:VEVENT
DTSTART;TZID=America/Phoenix:20250719T190000
DTEND;TZID=America/Phoenix:20250719T210000
DTSTAMP:20260424T051801
CREATED:20250718T182519Z
LAST-MODIFIED:20250718T182519Z
UID:10002377-1752951600-1752958800@lowell.edu
SUMMARY:Meet an Astronomer | Dr. James Sikora
DESCRIPTION:This Saturday\, come up to Mars Hill and meet Astronomer Dr. James Sikora! \nTake a peek at real-time images of planets\, stars\, galaxies and other celestial objects to be displayed on a large television screen outdoors with our new MallinCam. This is your opportunity to see interesting objects in the night sky\, learn about an astronomer’s research\, and ask questions you might have about any topic in astronomy. This event takes place every Saturday at 8pm and is included with an all-day general admission ticket.
URL:https://lowell.edu/event/meet-an-astronomer-dr-james-sikora/
LOCATION:Lowell Observatory\, 1400 W Mars Hill Rd\, Flagstaff\, AZ\, 86001\, United States
CATEGORIES:On-Site Event
ATTACH;FMTTYPE=image/jpeg:https://lowell.edu/wp-content/uploads/2024/07/meet-an-astronomer-james.jpg
END:VEVENT
END:VCALENDAR