BEGIN:VCALENDAR
VERSION:2.0
PRODID:-//Lowell Observatory - ECPv6.15.20//NONSGML v1.0//EN
CALSCALE:GREGORIAN
METHOD:PUBLISH
X-ORIGINAL-URL:https://lowell.edu
X-WR-CALDESC:Events for Lowell Observatory
REFRESH-INTERVAL;VALUE=DURATION:PT1H
X-Robots-Tag:noindex
X-PUBLISHED-TTL:PT1H
BEGIN:VTIMEZONE
TZID:America/Phoenix
BEGIN:STANDARD
TZOFFSETFROM:-0700
TZOFFSETTO:-0700
TZNAME:MST
DTSTART:20240101T000000
END:STANDARD
END:VTIMEZONE
BEGIN:VEVENT
DTSTART;TZID=America/Phoenix:20250726T190000
DTEND;TZID=America/Phoenix:20250726T210000
DTSTAMP:20260420T181119
CREATED:20250724T184025Z
LAST-MODIFIED:20250724T184025Z
UID:10002378-1753556400-1753563600@lowell.edu
SUMMARY:Meet a Planetary Astronomer | Dr. Larry Wasserman
DESCRIPTION:Meet a Planetary Astronomer | Dr. Larry Wasserman\nHead up to the Open Deck Observatory on Saturday\, July 26 to meet Lowell planetary astronomer Dr. Larry Wasserman! \nTake a peek at real-time images of planets\, stars\, galaxies and other celestial objects to be displayed on a large television screen outdoors with our new MallinCam. This is your opportunity to see interesting objects in the night sky\, learn about an astronomer’s research\, and ask questions you might have about any topic in astronomy. This event is included with a general admission ticket.
URL:https://lowell.edu/event/meet-a-planetary-astronomer-dr-larry-wasserman-5/
LOCATION:Giovale Open Deck Observatory\, 1400 W Mars Hill Rd\, Flagstaff\, AZ\, 86001\, United States
CATEGORIES:On-Site Event
ATTACH;FMTTYPE=image/jpeg:https://lowell.edu/wp-content/uploads/2023/03/larry.jpg
END:VEVENT
END:VCALENDAR