BEGIN:VCALENDAR
VERSION:2.0
PRODID:-//Lowell Observatory - ECPv6.15.20//NONSGML v1.0//EN
CALSCALE:GREGORIAN
METHOD:PUBLISH
X-ORIGINAL-URL:https://lowell.edu
X-WR-CALDESC:Events for Lowell Observatory
REFRESH-INTERVAL;VALUE=DURATION:PT1H
X-Robots-Tag:noindex
X-PUBLISHED-TTL:PT1H
BEGIN:VTIMEZONE
TZID:America/Phoenix
BEGIN:STANDARD
TZOFFSETFROM:-0700
TZOFFSETTO:-0700
TZNAME:MST
DTSTART:20250101T000000
END:STANDARD
END:VTIMEZONE
BEGIN:VEVENT
DTSTART;TZID=America/Phoenix:20260508T190000
DTEND;TZID=America/Phoenix:20260508T200000
DTSTAMP:20260419T053957
CREATED:20260302T221320Z
LAST-MODIFIED:20260331T185852Z
UID:10002451-1778266800-1778270400@lowell.edu
SUMMARY:Worlds Revealed Speaker Series | Prediction\, Photographs and the search for Planet X
DESCRIPTION:Prediction\, Photographs and the search for Planet X with Dr. Stephen Levine\nStep into a universe of discovery with Worlds Revealed\, Lowell Observatory’s exclusive speaker series. This engaging program invites diverse staff and experts to share their unique perspectives\, bridging the gap between science\, art\, and exploration. Learn about exciting topics like the intersection of music and astronomy\, the operations behind our world-class telescopes\, or unexpected connections like animals and stars\, Worlds Revealed offers a captivating inside look at the ideas and stories that inspire wonder and shape our understanding of the cosmos.
URL:https://lowell.edu/event/worlds-revealed-speaker-series-5/
LOCATION:Lowell Universe Theater\, 1400 W Mars Hill Rd\, Flagstaff\, AZ\, 86001\, United States
CATEGORIES:On-Site Event
ATTACH;FMTTYPE=image/jpeg:https://lowell.edu/wp-content/uploads/2025/04/Worlds-Revealed-4.25.jpg
END:VEVENT
END:VCALENDAR