BEGIN:VCALENDAR
VERSION:2.0
PRODID:-//Lowell Observatory - ECPv6.15.20//NONSGML v1.0//EN
CALSCALE:GREGORIAN
METHOD:PUBLISH
X-ORIGINAL-URL:https://lowell.edu
X-WR-CALDESC:Events for Lowell Observatory
REFRESH-INTERVAL;VALUE=DURATION:PT1H
X-Robots-Tag:noindex
X-PUBLISHED-TTL:PT1H
BEGIN:VTIMEZONE
TZID:America/Phoenix
BEGIN:STANDARD
TZOFFSETFROM:-0700
TZOFFSETTO:-0700
TZNAME:MST
DTSTART:20250101T000000
END:STANDARD
END:VTIMEZONE
BEGIN:VEVENT
DTSTART;TZID=America/Phoenix:20260627T190000
DTEND;TZID=America/Phoenix:20260627T200000
DTSTAMP:20260425T052250
CREATED:20260302T222047Z
LAST-MODIFIED:20260424T192544Z
UID:10002454-1782586800-1782590400@lowell.edu
SUMMARY:Worlds Revealed Speaker Series | Asteroids\, Plankton and the Extinction of the Dinosaurs
DESCRIPTION:Worlds Revealed Speaker Series\n Asteroids\, Plankton and the Extinction of the Dinosaurs with Dr. Kent Colbath\n66 million years ago\, an asteroid larger than Mt. Everest crashed into what we now call the Yucatan Peninsula and triggered an ecological disaster that wiped out 70% of the species on Earth\, or so the story goes. In this presentation\, we’ll dig into the gory details of how a fringe idea becomes widely accepted\, and the surprising way this connects astronomers to micropaleontologists. \nRetired geology professor\, member of the Lowell Observatory Advisory Board\, and total science geek. Kent began his research career in the 1970’s studying one of Earth’s mass extinction events (the wrong one\, as it turns out)\, followed by post-doctoral fellowships at the Smithsonian and the University of Queensland in Australia. After retiring from his position as Chair of Earth Science at Cerritos Community College in Southern California\, Kent and his late wife Jill made the inspired decision to move permanently to Flagstaff in 2005.
URL:https://lowell.edu/event/worlds-revealed-speaker-series-asteroid-day/
LOCATION:Lowell Universe Theater\, 1400 W Mars Hill Rd\, Flagstaff\, AZ\, 86001\, United States
CATEGORIES:On-Site Event
ATTACH;FMTTYPE=image/jpeg:https://lowell.edu/wp-content/uploads/2026/03/WRSS-dinos.jpg
END:VEVENT
BEGIN:VEVENT
DTSTART;TZID=America/Phoenix:20260724T190000
DTEND;TZID=America/Phoenix:20260724T200000
DTSTAMP:20260425T052250
CREATED:20260302T222150Z
LAST-MODIFIED:20260305T220535Z
UID:10002455-1784919600-1784923200@lowell.edu
SUMMARY:Worlds Revealed Speaker Series
DESCRIPTION:Worlds Revealed Speaker Series\nStep into a universe of discovery with Worlds Revealed\, Lowell Observatory’s exclusive speaker series. This engaging program invites diverse staff and experts to share their unique perspectives\, bridging the gap between science\, art\, and exploration. Learn about exciting topics like the intersection of music and astronomy\, the operations behind our world-class telescopes\, or unexpected connections like animals and stars\, Worlds Revealed offers a captivating inside look at the ideas and stories that inspire wonder and shape our understanding of the cosmos.
URL:https://lowell.edu/event/worlds-revealed-speaker-series-6/
LOCATION:Lowell Universe Theater\, 1400 W Mars Hill Rd\, Flagstaff\, AZ\, 86001\, United States
CATEGORIES:On-Site Event
ATTACH;FMTTYPE=image/jpeg:https://lowell.edu/wp-content/uploads/2025/04/Worlds-Revealed-4.25.jpg
END:VEVENT
BEGIN:VEVENT
DTSTART;TZID=America/Phoenix:20260828T190000
DTEND;TZID=America/Phoenix:20260828T200000
DTSTAMP:20260425T052250
CREATED:20260302T222324Z
LAST-MODIFIED:20260305T220729Z
UID:10002456-1787943600-1787947200@lowell.edu
SUMMARY:Worlds Revealed Speaker Series
DESCRIPTION:Worlds Revealed Speaker Series\nStep into a universe of discovery with Worlds Revealed\, Lowell Observatory’s exclusive speaker series. This engaging program invites diverse staff and experts to share their unique perspectives\, bridging the gap between science\, art\, and exploration. Learn about exciting topics like the intersection of music and astronomy\, the operations behind our world-class telescopes\, or unexpected connections like animals and stars\, Worlds Revealed offers a captivating inside look at the ideas and stories that inspire wonder and shape our understanding of the cosmos.
URL:https://lowell.edu/event/worlds-revealed-speaker-series-7/
LOCATION:Lowell Universe Theater\, 1400 W Mars Hill Rd\, Flagstaff\, AZ\, 86001\, United States
CATEGORIES:On-Site Event
ATTACH;FMTTYPE=image/jpeg:https://lowell.edu/wp-content/uploads/2025/04/Worlds-Revealed-4.25.jpg
END:VEVENT
BEGIN:VEVENT
DTSTART;TZID=America/Phoenix:20260911T190000
DTEND;TZID=America/Phoenix:20260911T200000
DTSTAMP:20260425T052250
CREATED:20260302T222418Z
LAST-MODIFIED:20260305T220751Z
UID:10002457-1789153200-1789156800@lowell.edu
SUMMARY:Worlds Revealed Speaker Series
DESCRIPTION:Worlds Revealed Speaker Series\nStep into a universe of discovery with Worlds Revealed\, Lowell Observatory’s exclusive speaker series. This engaging program invites diverse staff and experts to share their unique perspectives\, bridging the gap between science\, art\, and exploration. Learn about exciting topics like the intersection of music and astronomy\, the operations behind our world-class telescopes\, or unexpected connections like animals and stars\, Worlds Revealed offers a captivating inside look at the ideas and stories that inspire wonder and shape our understanding of the cosmos.
URL:https://lowell.edu/event/worlds-revealed-speaker-series-8/
LOCATION:Lowell Universe Theater\, 1400 W Mars Hill Rd\, Flagstaff\, AZ\, 86001\, United States
CATEGORIES:On-Site Event
ATTACH;FMTTYPE=image/jpeg:https://lowell.edu/wp-content/uploads/2025/04/Worlds-Revealed-4.25.jpg
END:VEVENT
BEGIN:VEVENT
DTSTART;TZID=America/Phoenix:20261009T190000
DTEND;TZID=America/Phoenix:20261009T200000
DTSTAMP:20260425T052250
CREATED:20260302T222517Z
LAST-MODIFIED:20260305T220755Z
UID:10002458-1791572400-1791576000@lowell.edu
SUMMARY:Worlds Revealed Speaker Series
DESCRIPTION:Worlds Revealed Speaker Series\nStep into a universe of discovery with Worlds Revealed\, Lowell Observatory’s exclusive speaker series. This engaging program invites diverse staff and experts to share their unique perspectives\, bridging the gap between science\, art\, and exploration. Learn about exciting topics like the intersection of music and astronomy\, the operations behind our world-class telescopes\, or unexpected connections like animals and stars\, Worlds Revealed offers a captivating inside look at the ideas and stories that inspire wonder and shape our understanding of the cosmos.
URL:https://lowell.edu/event/worlds-revealed-speaker-series-9/
LOCATION:Lowell Universe Theater\, 1400 W Mars Hill Rd\, Flagstaff\, AZ\, 86001\, United States
CATEGORIES:On-Site Event
ATTACH;FMTTYPE=image/jpeg:https://lowell.edu/wp-content/uploads/2025/04/Worlds-Revealed-4.25.jpg
END:VEVENT
BEGIN:VEVENT
DTSTART;TZID=America/Phoenix:20261113T190000
DTEND;TZID=America/Phoenix:20261113T200000
DTSTAMP:20260425T052250
CREATED:20260302T222539Z
LAST-MODIFIED:20260305T220800Z
UID:10002459-1794596400-1794600000@lowell.edu
SUMMARY:Worlds Revealed Speaker Series
DESCRIPTION:Worlds Revealed Speaker Series\nStep into a universe of discovery with Worlds Revealed\, Lowell Observatory’s exclusive speaker series. This engaging program invites diverse staff and experts to share their unique perspectives\, bridging the gap between science\, art\, and exploration. Learn about exciting topics like the intersection of music and astronomy\, the operations behind our world-class telescopes\, or unexpected connections like animals and stars. Worlds Revealed offers a captivating inside look at the ideas and stories that inspire wonder and shape our understanding of the cosmos.
URL:https://lowell.edu/event/worlds-revealed-speaker-series-10/
LOCATION:Lowell Universe Theater\, 1400 W Mars Hill Rd\, Flagstaff\, AZ\, 86001\, United States
CATEGORIES:On-Site Event
ATTACH;FMTTYPE=image/jpeg:https://lowell.edu/wp-content/uploads/2025/04/Worlds-Revealed-4.25.jpg
END:VEVENT
END:VCALENDAR