BEGIN:VCALENDAR
VERSION:2.0
PRODID:-//Lowell Observatory - ECPv6.15.20//NONSGML v1.0//EN
CALSCALE:GREGORIAN
METHOD:PUBLISH
X-WR-CALNAME:Lowell Observatory
X-ORIGINAL-URL:https://lowell.edu
X-WR-CALDESC:Events for Lowell Observatory
REFRESH-INTERVAL;VALUE=DURATION:PT1H
X-Robots-Tag:noindex
X-PUBLISHED-TTL:PT1H
BEGIN:VTIMEZONE
TZID:America/Phoenix
BEGIN:STANDARD
TZOFFSETFROM:-0700
TZOFFSETTO:-0700
TZNAME:MST
DTSTART:20200101T000000
END:STANDARD
END:VTIMEZONE
BEGIN:VEVENT
DTSTART;TZID=America/Phoenix:20210715T213000
DTEND;TZID=America/Phoenix:20210715T223000
DTSTAMP:20260423T121952
CREATED:20210708T220632Z
LAST-MODIFIED:20210712T192939Z
UID:10000444-1626384600-1626388200@lowell.edu
SUMMARY:Clark 125th Anniversary | Binary Star Research
DESCRIPTION:Clark 125th Anniversary | Binary Star Research \nJoin us for a livestream celebration of the 125th anniversary of the historic Clark Refractor from 9:30-10:15 pm PDT! Lowell Historian Kevin Schindler will share the sometimes quirky observing chairs that astronomers used through the years. Lowell educators at the Clark Refractor will share live views of colorful Albireo\, a double star typical of those studied through the years by the enigmatic TJJ See\, Jim Christy\, and Otto Franz. Lowell Astronomer Dr. Lisa Prato will join Schindler to discuss the importance of this early double star work and its relevance to her research today.
URL:https://lowell.edu/event/clark-125th-anniversary-binary-star-research/
LOCATION:YouTube
ATTACH;FMTTYPE=image/jpeg:https://lowell.edu/wp-content/uploads/2021/07/july_125-1.jpg
END:VEVENT
BEGIN:VEVENT
DTSTART;TZID=America/Phoenix:20210706T213000
DTEND;TZID=America/Phoenix:20210706T213000
DTSTAMP:20260423T121952
CREATED:20210625T050436Z
LAST-MODIFIED:20210708T170226Z
UID:10000435-1625607000-1625607000@lowell.edu
SUMMARY:Streaming | Interactive Stargazing | July\, 6 2021
DESCRIPTION:Join Lowell Observatory educators at the Giovale Open Deck Observatory (https://lowell.edu/godo)\, at 9:30 PM PDT for a guided\, interactive observing session. After showcasing some planned celestial objects through our 14″ PlaneWave CDK telescope\, we’ll let you choose which objects to see next via YouTube’s chat function. It’s stargazing\, reimagined. \n*Note: Programming may be canceled due to inclement weather.
URL:https://lowell.edu/event/streaming-interactive-stargazing-july-6-2021/
ATTACH;FMTTYPE=image/jpeg:https://lowell.edu/wp-content/uploads/2021/06/interactive_star_6.1.jpg
END:VEVENT
BEGIN:VEVENT
DTSTART;TZID=America/Phoenix:20210626T133000
DTEND;TZID=America/Phoenix:20210626T153000
DTSTAMP:20260423T121953
CREATED:20210625T051015Z
LAST-MODIFIED:20210708T170227Z
UID:10000436-1624714200-1624721400@lowell.edu
SUMMARY:Streaming | Astronomy Discovery Center Ground Breaking Ceremony | June\, 26 2021
DESCRIPTION:Astronomy Discovery Center Ground Breaking Ceremony | June 26 2021 \nJoin Lowell Observatory for the Ground Breaking Ceremony of the new Astronomy Discovery Center at 1:30pm PST on June 26th! \nYou can find all of our Live-Streams and more on our YouTube channel!
URL:https://lowell.edu/event/streaming-astronomy-discovery-center-ground-breaking-ceremony-june-26-2021/
ATTACH;FMTTYPE=image/jpeg:https://lowell.edu/wp-content/uploads/2021/06/ADC_groundbreaking_thumbnail.jpg
END:VEVENT
BEGIN:VEVENT
DTSTART;TZID=America/Phoenix:20210617T213000
DTEND;TZID=America/Phoenix:20210617T223000
DTSTAMP:20260423T121953
CREATED:20210625T051224Z
LAST-MODIFIED:20210708T170227Z
UID:10000437-1623965400-1623969000@lowell.edu
SUMMARY:Streaming | Clark 125th Anniversary | Beta Scorpii
DESCRIPTION:Streaming | Clark 125th Anniversary | Beta Scorpii \nJoin us for a Livestream celebration of the 125th anniversary of the historic Clark Refractor! The program runs from 9:30-10:15 pm PDT and includes: \n\nLowell Historian Kevin Schindler will discuss ways the Clark dome has been rotated through the years\, including on pontoons in a trough of saltwater!\nLowell educators at the Clark Refractor will share live views of the star Beta Scorpii\, the object that Dr. VM Slipher studied more than a century ago in proving the existence of interstellar gas.\nLowell Astronomer Dr. Kyler Kuehn will join Schindler to discuss the relevance of Slipher’s discoveries to modern-day research\, particularly Kuehn’s work with the Dark Energy Survey and the Southern Stellar Stream Spectroscopic Survey.\n\nFind more on our YouTube channel!
URL:https://lowell.edu/event/streaming-clark-125th-anniversary-beta-scorpii/
ATTACH;FMTTYPE=image/jpeg:https://lowell.edu/wp-content/uploads/2021/06/june_125-01-scaled-1.jpg
END:VEVENT
BEGIN:VEVENT
DTSTART;TZID=America/Phoenix:20210617T090000
DTEND;TZID=America/Phoenix:20210617T100000
DTSTAMP:20260423T121953
CREATED:20210625T054726Z
LAST-MODIFIED:20210708T170227Z
UID:10000441-1623920400-1623924000@lowell.edu
SUMMARY:Streaming | Cosmic Coffee\, Cup No.  47
DESCRIPTION:Streaming | Cosmic Coffee\, Cup No. 47  \nWake up with Cosmic Coffee every Thursday morning at 9 am PDT! Join Lowell Observatory Staff each week as they enjoy a cup of coffee from a local business and discuss a variety of scientific topics. Cosmic Coffee explores a different topic in astronomy or planetary science each Thursday at 9 am AZ (PDT). \nYou can find all of our Live-Streams and more on our YouTube channel!
URL:https://lowell.edu/event/streaming-cosmic-coffee-cup-no-47/
ATTACH;FMTTYPE=image/jpeg:https://lowell.edu/wp-content/uploads/2021/06/cosmiccoffee_6.3.jpg
END:VEVENT
BEGIN:VEVENT
DTSTART;TZID=America/Phoenix:20210610T090000
DTEND;TZID=America/Phoenix:20210610T100000
DTSTAMP:20260423T121953
CREATED:20210625T054424Z
LAST-MODIFIED:20210708T170227Z
UID:10000440-1623315600-1623319200@lowell.edu
SUMMARY:Streaming | Cosmic Coffee\, Cup No. 46 | Characteristics of Young Stars
DESCRIPTION:Streaming | Cosmic Coffee\, Cup No. 46 | Characteristics of Young Stars \nYoung stars\, often referred to as “T Tauri stars\,” look and behave quite differently compared to mature Main Sequence stars like the Sun. This week during Cosmic Coffee\, Research Assistant Lauren Biddle and Research Associate Brian Skiff will discuss some of the classifications and characteristics of these newborn stars\, and then we’ll consider possible effects on planets forming around them. Cosmic Coffee explores a different topic in astronomy or planetary science each Thursday at 9 am AZ (PDT). \nYou can find all of our Live-Streams and more on our YouTube channel!
URL:https://lowell.edu/event/streaming-cosmic-coffee-cup-no-46-characteristics-of-young-stars/
ATTACH;FMTTYPE=image/jpeg:https://lowell.edu/wp-content/uploads/2021/06/cosmiccoffee_6.3.jpg
END:VEVENT
BEGIN:VEVENT
DTSTART;TZID=America/Phoenix:20210608T093000
DTEND;TZID=America/Phoenix:20210608T223000
DTSTAMP:20260423T121953
CREATED:20210625T054246Z
LAST-MODIFIED:20210708T170227Z
UID:10000439-1623144600-1623191400@lowell.edu
SUMMARY:Streaming | Interactive Stargazing | Grand Canyon Star Party
DESCRIPTION:Interactive Stargazing | Grand Canyon Star Party \nJoin us for a special Interactive Stargazing as we collaborate with the Grand Canyon Star Party! Lowell Observatory educators will be streaming live from the Giovale Open Deck Observatory (https://lowell.edu/godo) at 9:30 PM PDT for a guided\, interactive observing session. You can view the stream on our Youtube Channel and also on our Facebook page: https://www.facebook.com/lowellobservatory. \nAfter showcasing some planned celestial objects through our 14″ PlaneWave CDK telescope\, we’ll let you choose which objects to see next via the YouTube and Facebook chat functions.\nIt’s stargazing\, reimagined. \n*Note: Programming may be canceled due to inclement weather. \nYou can find all of our Live-Streams and more on our YouTube channel!
URL:https://lowell.edu/event/streaming-interactive-stargazing-grand-canyon-star-party/
ATTACH;FMTTYPE=image/jpeg:https://lowell.edu/wp-content/uploads/2021/06/interactive_star_grandcayon.jpg
END:VEVENT
BEGIN:VEVENT
DTSTART;TZID=America/Phoenix:20210603T090000
DTEND;TZID=America/Phoenix:20210603T100000
DTSTAMP:20260423T121953
CREATED:20210625T053841Z
LAST-MODIFIED:20210708T170227Z
UID:10000438-1622710800-1622714400@lowell.edu
SUMMARY:Streaming | Cosmic Coffee\, Cup No. 45 | A Scorpion\, an Archer\, and the Center of the Milky Way
DESCRIPTION:Cosmic Coffee\, Cup No. 45 | A Scorpion\, an Archer\, and the Center of the Milky Way \nWake up with Cosmic Coffee every Thursday morning at 9am PDT! Join our director Dr. Jeff Hall as he sits down with a different guest each week to enjoy a cup of coffee from a local business and discuss a variety of scientific topics. Summer is here (for us northern hemisphere folks\, anyway)! In this week’s Cosmic Coffee\, Lowell Observatory Educators Jos Schindler and Hailey Osborn will talk about some of the most prominent sights in the evening summer sky\, focusing on the constellations Scorpius and Sagittarius. \nYou can find all of our Live-Streams and more on our YouTube channel!
URL:https://lowell.edu/event/streaming-cosmic-coffee-cup-no-45-a-scorpion-an-archer-and-the-center-of-the-milky-way/
ATTACH;FMTTYPE=image/jpeg:https://lowell.edu/wp-content/uploads/2021/06/cosmiccoffee_6.3.jpg
END:VEVENT
BEGIN:VEVENT
DTSTART;TZID=America/Phoenix:20210601T213000
DTEND;TZID=America/Phoenix:20210601T223000
DTSTAMP:20260423T121953
CREATED:20210625T055136Z
LAST-MODIFIED:20210708T170227Z
UID:10000442-1622583000-1622586600@lowell.edu
SUMMARY:Streaming | Interactive Stargazing | June 1st
DESCRIPTION:Interactive Stargazing | June 1st \nJoin Lowell Observatory educators at the Giovale Open Deck Observatory (https://lowell.edu/godo)\, at 9:30 PM PDT for a guided\, interactive observing session. After showcasing some planned celestial objects through our 14″ PlaneWave CDK telescope\, we’ll let you choose which objects to see next via YouTube’s chat function. It’s stargazing\, reimagined. \n*Note: Programming may be canceled due to inclement weather. \nYou can find all of our Live-Streams and more on our YouTube channel!
URL:https://lowell.edu/event/streaming-interactive-stargazing-june-1st/
ATTACH;FMTTYPE=image/jpeg:https://lowell.edu/wp-content/uploads/2021/06/interactive_star_6.1.jpg
END:VEVENT
BEGIN:VEVENT
DTSTART;TZID=America/Phoenix:20210504T203000
DTEND;TZID=America/Phoenix:20210504T213000
DTSTAMP:20260423T121953
CREATED:20210401T214438Z
LAST-MODIFIED:20210708T170227Z
UID:10000434-1620160200-1620163800@lowell.edu
SUMMARY:Streaming | Interactive Stargazing | May 4th
DESCRIPTION:Interactive Stargazing | May 4th \nJoin Lowell Observatory educators at the Giovale Open Deck Observatory (https://lowell.edu/godo​)\, at 8:30 PM PDT for a guided\, interactive observing session. After showcasing some planned celestial objects through our 14″ PlaneWave CDK telescope\, we’ll let you choose which objects to see next via YouTube’s chat function. It’s stargazing\, reimagined. *Note: Programming may be canceled due to inclement weather. \nYou can find all of our Live-Streams and more on our YouTube channel!\n[vcex_spacing size=”10px”]\n[vcex_button url=”https://www.youtube.com/channel/UC4zmFY211sXfEamwmsJcrYA” title=”Visit Site” style=”flat” align=”center” color=”red” size=”small” target=”self” rel=”none”]Subscribe Today[/vcex_button]
URL:https://lowell.edu/event/streaming-interactive-stargazing-may-4th/
LOCATION:YouTube
END:VEVENT
END:VCALENDAR