BEGIN:VCALENDAR
VERSION:2.0
PRODID:-//Lowell Observatory - ECPv6.15.20//NONSGML v1.0//EN
CALSCALE:GREGORIAN
METHOD:PUBLISH
X-ORIGINAL-URL:https://lowell.edu
X-WR-CALDESC:Events for Lowell Observatory
REFRESH-INTERVAL;VALUE=DURATION:PT1H
X-Robots-Tag:noindex
X-PUBLISHED-TTL:PT1H
BEGIN:VTIMEZONE
TZID:America/Phoenix
BEGIN:STANDARD
TZOFFSETFROM:-0700
TZOFFSETTO:-0700
TZNAME:MST
DTSTART:20220101T000000
END:STANDARD
END:VTIMEZONE
BEGIN:VEVENT
DTSTART;TZID=America/Phoenix:20231202T190000
DTEND;TZID=America/Phoenix:20231202T220000
DTSTAMP:20260419T092726
CREATED:20231026T173106Z
LAST-MODIFIED:20231026T173106Z
UID:10001085-1701543600-1701554400@lowell.edu
SUMMARY:Meet An Astronomer
DESCRIPTION:This Saturday\, come up to Mars Hill and meet Astronomer Dr. Tyler Richey-Yowell! \nTake a peek at real-time images of planets\, stars\, galaxies and other celestial objects to be displayed on a large television screen outdoors with our new MallinCam. This is your opportunity to see interesting objects in the night sky\, learn about an astronomer’s research\, and ask questions you might have about any topic in astronomy. This event takes place every Saturday at 7pm and is included with an all-day general admission ticket.
URL:https://lowell.edu/event/meet-an-astronomer-24/
LOCATION:Lowell Observatory\, 1400 W Mars Hill Rd\, Flagstaff\, AZ\, 86001\, United States
ATTACH;FMTTYPE=image/jpeg:https://lowell.edu/wp-content/uploads/2023/03/meet-an-astromoer-exo.jpg
END:VEVENT
BEGIN:VEVENT
DTSTART;TZID=America/Phoenix:20231209T190000
DTEND;TZID=America/Phoenix:20231209T220000
DTSTAMP:20260419T092726
CREATED:20231026T173148Z
LAST-MODIFIED:20231026T173148Z
UID:10001086-1702148400-1702159200@lowell.edu
SUMMARY:Meet A Planetary Astronomer
DESCRIPTION:This Saturday\, come up to Mars Hill and meet Lowell Planetary Astronomer\, Dr. Larry Wasserman! \nTake a peek at real-time images of planets\, stars\, galaxies and other celestial objects to be displayed on a large television screen outdoors with our new MallinCam. This is your opportunity to see interesting objects in the night sky\, learn about an astronomer’s research\, and ask questions you might have about any topic in astronomy. This event takes place every Saturday at 7pm and is included with an all-day general admission ticket.
URL:https://lowell.edu/event/meet-a-planetary-astronomer/
LOCATION:Lowell Observatory\, 1400 W Mars Hill Rd\, Flagstaff\, AZ\, 86001\, United States
ATTACH;FMTTYPE=image/jpeg:https://lowell.edu/wp-content/uploads/2023/03/planetary-astronomer.jpg
END:VEVENT
BEGIN:VEVENT
DTSTART;TZID=America/Phoenix:20231215T080000
DTEND;TZID=America/Phoenix:20240204T220000
DTSTAMP:20260419T092726
CREATED:20231218T200713Z
LAST-MODIFIED:20231218T203058Z
UID:10001145-1702627200-1707084000@lowell.edu
SUMMARY:The Science of Guinness World Records (Temporary Exhibit)
DESCRIPTION:For the first time ever\, Lowell Observatory is looking into the science behind the mesmerizing accomplishments of world records with an interactive exhibit called The Science of Guinness World Records. \nIncluded with your general admission or tickets sold separately\, you can discover this temporary exhibition from December 15 to February 4\, presented in partnership with Arizona Science Center. \nOptional: Upgrade your Exhibit pass to a General Admission ticket\, available on same day of purchase. \nProvided in partnership with Arizona Science Center and Science North. \nRead More and Book Tickets.
URL:https://lowell.edu/event/the-science-of-guinness-world-records-temporary-exhibit/
LOCATION:Lowell Observatory\, 1400 W Mars Hill Rd\, Flagstaff\, AZ\, 86001\, United States
CATEGORIES:On-Site Event
ATTACH;FMTTYPE=image/png:https://lowell.edu/wp-content/uploads/2023/12/V3_ASC-SGWR_Lowell-Observatory_1080x1080-1.png
END:VEVENT
BEGIN:VEVENT
DTSTART;TZID=America/Phoenix:20231219T080000
DTEND;TZID=America/Phoenix:20231219T210000
DTSTAMP:20260419T092726
CREATED:20231206T204555Z
LAST-MODIFIED:20231206T204555Z
UID:10001143-1702972800-1703019600@lowell.edu
SUMMARY:Astronomy on Tap: Light Knows We're Watching
DESCRIPTION:Join us for Astronomy on Tap at Mother Road Brewery on December 19\, starting at 6:30pm! Play trivia to win out-of-this-world prizes\, listen to a fascinating a science talk\, and of course\, enjoy Mother Road brews on tap. This month’s speaker is Lowell educator Jacob Hyden\, who will give a talk called “Light Knows We’re Watching.” We’ll see you there!
URL:https://lowell.edu/event/astronomy-on-tap-light-knows-were-watching/
LOCATION:Mother Road Brewing Co.\, 7 S Mikes Pike St\, Flagstaff\, AZ\, 86001\, United States
CATEGORIES:Off-Site Event
ATTACH;FMTTYPE=image/jpeg:https://lowell.edu/wp-content/uploads/2023/12/AoT_dec2023.jpg
END:VEVENT
BEGIN:VEVENT
DTSTART;TZID=America/Phoenix:20231223T190000
DTEND;TZID=America/Phoenix:20231223T220000
DTSTAMP:20260419T092726
CREATED:20231026T173220Z
LAST-MODIFIED:20231026T173220Z
UID:10001087-1703358000-1703368800@lowell.edu
SUMMARY:Meet A Planetary Astronomer
DESCRIPTION:This Saturday\, come up to Mars Hill and meet Lowell Planetary Astronomer\, Dr. Larry Wasserman! \nTake a peek at real-time images of planets\, stars\, galaxies and other celestial objects to be displayed on a large television screen outdoors with our new MallinCam. This is your opportunity to see interesting objects in the night sky\, learn about an astronomer’s research\, and ask questions you might have about any topic in astronomy. This event takes place every Saturday at 7pm and is included with an all-day general admission ticket.
URL:https://lowell.edu/event/meet-a-planetary-astronomer-2/
LOCATION:Lowell Observatory\, 1400 W Mars Hill Rd\, Flagstaff\, AZ\, 86001\, United States
ATTACH;FMTTYPE=image/jpeg:https://lowell.edu/wp-content/uploads/2023/03/planetary-astronomer.jpg
END:VEVENT
BEGIN:VEVENT
DTSTART;TZID=America/Phoenix:20231230T190000
DTEND;TZID=America/Phoenix:20231230T220000
DTSTAMP:20260419T092726
CREATED:20231026T173502Z
LAST-MODIFIED:20231026T173502Z
UID:10001089-1703962800-1703973600@lowell.edu
SUMMARY:Meet An Astronomer
DESCRIPTION:This Saturday\, come up to Mars Hill and meet Astronomer and Lowell Observatory Executive Director\, Dr. Jeffrey Hall! \nTake a peek at real-time images of planets\, stars\, galaxies and other celestial objects to be displayed on a large television screen outdoors with our new MallinCam. This is your opportunity to see interesting objects in the night sky\, learn about an astronomer’s research\, and ask questions you might have about any topic in astronomy. This event takes place every Saturday at 7pm and is included with an all-day general admission ticket.
URL:https://lowell.edu/event/meet-an-astronomer-26/
LOCATION:Lowell Observatory\, 1400 W Mars Hill Rd\, Flagstaff\, AZ\, 86001\, United States
ATTACH;FMTTYPE=image/jpeg:https://lowell.edu/wp-content/uploads/2023/09/meet-an-astronomer-jeff.jpg
END:VEVENT
END:VCALENDAR