BEGIN:VCALENDAR
VERSION:2.0
PRODID:-//Lowell Observatory - ECPv6.15.20//NONSGML v1.0//EN
CALSCALE:GREGORIAN
METHOD:PUBLISH
X-ORIGINAL-URL:https://lowell.edu
X-WR-CALDESC:Events for Lowell Observatory
REFRESH-INTERVAL;VALUE=DURATION:PT1H
X-Robots-Tag:noindex
X-PUBLISHED-TTL:PT1H
BEGIN:VTIMEZONE
TZID:America/Phoenix
BEGIN:STANDARD
TZOFFSETFROM:-0700
TZOFFSETTO:-0700
TZNAME:MST
DTSTART:20200101T000000
END:STANDARD
END:VTIMEZONE
BEGIN:VEVENT
DTSTART;TZID=America/Phoenix:20210803T213000
DTEND;TZID=America/Phoenix:20210803T223000
DTSTAMP:20260424T015158
CREATED:20210708T215320Z
LAST-MODIFIED:20210715T215418Z
UID:10000443-1628026200-1628029800@lowell.edu
SUMMARY:Interactive Stargazing | August 3\, 2021
DESCRIPTION:Interactive Stargazing | August 3\, 2021 \nJoin Lowell Observatory educators at the Giovale Open Deck Observatory (https://lowell.edu/godo) at 9:30 PM PDT for a guided\, interactive observing session. After showcasing some planned celestial objects through our 14″ PlaneWave CDK telescope\, we’ll let you choose which objects to see next via the YouTube and Facebook chat functions.\nIt’s stargazing\, reimagined. \n*Note: Programming may be canceled due to inclement weather.
URL:https://lowell.edu/event/interactive-stargazing-july-13-2021/
LOCATION:YouTube
ATTACH;FMTTYPE=image/jpeg:https://lowell.edu/wp-content/uploads/2021/07/maxresdefault-3.jpg
END:VEVENT
BEGIN:VEVENT
DTSTART;TZID=America/Phoenix:20210715T213000
DTEND;TZID=America/Phoenix:20210715T223000
DTSTAMP:20260424T015158
CREATED:20210708T220632Z
LAST-MODIFIED:20210712T192939Z
UID:10000444-1626384600-1626388200@lowell.edu
SUMMARY:Clark 125th Anniversary | Binary Star Research
DESCRIPTION:Clark 125th Anniversary | Binary Star Research \nJoin us for a livestream celebration of the 125th anniversary of the historic Clark Refractor from 9:30-10:15 pm PDT! Lowell Historian Kevin Schindler will share the sometimes quirky observing chairs that astronomers used through the years. Lowell educators at the Clark Refractor will share live views of colorful Albireo\, a double star typical of those studied through the years by the enigmatic TJJ See\, Jim Christy\, and Otto Franz. Lowell Astronomer Dr. Lisa Prato will join Schindler to discuss the importance of this early double star work and its relevance to her research today.
URL:https://lowell.edu/event/clark-125th-anniversary-binary-star-research/
LOCATION:YouTube
ATTACH;FMTTYPE=image/jpeg:https://lowell.edu/wp-content/uploads/2021/07/july_125-1.jpg
END:VEVENT
END:VCALENDAR