BEGIN:VCALENDAR
VERSION:2.0
PRODID:-//Lowell Observatory - ECPv6.15.20//NONSGML v1.0//EN
CALSCALE:GREGORIAN
METHOD:PUBLISH
X-WR-CALNAME:Lowell Observatory
X-ORIGINAL-URL:https://lowell.edu
X-WR-CALDESC:Events for Lowell Observatory
REFRESH-INTERVAL;VALUE=DURATION:PT1H
X-Robots-Tag:noindex
X-PUBLISHED-TTL:PT1H
BEGIN:VTIMEZONE
TZID:America/Phoenix
BEGIN:STANDARD
TZOFFSETFROM:-0700
TZOFFSETTO:-0700
TZNAME:MST
DTSTART:20240101T000000
END:STANDARD
END:VTIMEZONE
BEGIN:VEVENT
DTSTART;TZID=America/Phoenix:20250630T110000
DTEND;TZID=America/Phoenix:20250630T230000
DTSTAMP:20260419T163310
CREATED:20250611T193333Z
LAST-MODIFIED:20250616T220427Z
UID:10002366-1751281200-1751324400@lowell.edu
SUMMARY:Asteroid Day 2025
DESCRIPTION:Asteroid Day 2025\nJoin us for Asteroid Day as Meteor Crater and Lowell Observatory team up for a cosmic celebration in Flagstaff\, Arizona! Explore the world’s best-preserved impact site—Meteor Crater—and dive into the science of near-Earth asteroids at the observatory that’s discovered over 30\,000 of them. This one-day event features expert talks\, behind-the-scenes tours\, hands-on science demos\, food trucks\, and telescope viewing under the stars. Don’t miss this stellar day of space\, science\, and impact! \nVisit AsteroidDayAZ.com to learn more!
URL:https://lowell.edu/event/asteroid-day-2025/
LOCATION:Lowell Observatory\, 1400 W Mars Hill Rd\, Flagstaff\, AZ\, 86001\, United States
CATEGORIES:Off-Site Event,On-Site Event
ATTACH;FMTTYPE=image/jpeg:https://lowell.edu/wp-content/uploads/2025/06/asteroid-day-2025-1920x1080-1.jpg
END:VEVENT
END:VCALENDAR