BEGIN:VCALENDAR
VERSION:2.0
PRODID:-//Lowell Observatory - ECPv6.15.20//NONSGML v1.0//EN
CALSCALE:GREGORIAN
METHOD:PUBLISH
X-WR-CALNAME:Lowell Observatory
X-ORIGINAL-URL:https://lowell.edu
X-WR-CALDESC:Events for Lowell Observatory
REFRESH-INTERVAL;VALUE=DURATION:PT1H
X-Robots-Tag:noindex
X-PUBLISHED-TTL:PT1H
BEGIN:VTIMEZONE
TZID:America/Phoenix
BEGIN:STANDARD
TZOFFSETFROM:-0700
TZOFFSETTO:-0700
TZNAME:MST
DTSTART:20210101T000000
END:STANDARD
END:VTIMEZONE
BEGIN:VEVENT
DTSTART;TZID=America/Phoenix:20220623T220000
DTEND;TZID=America/Phoenix:20220623T230000
DTSTAMP:20260425T190234
CREATED:20220601T232920Z
LAST-MODIFIED:20220617T201443Z
UID:10000782-1656021600-1656025200@lowell.edu
SUMMARY:LIVE Interactive Stargazing | YOU Direct Our Telescope on June 23\, 2022
DESCRIPTION:You will tell Lowell Observatory where to point the telescope in this LIVE Interactive Stargazing experience on June 23 at 10pm PDT! \nGet ready for the BRAND NEW Interactive Stargazing 2.0: Discover the skies with Lowell Observatory expert educator and TikTok star Hannah Zigo\, live from our Giovale Open Deck Observatory. Make requests for objects you want to see in the night sky! Get even more in-depth knowledge of the night sky with each object we observe through our 14″ PlaneWave CDK telescope\, informative presentations\, and live chat interaction\, all from the comfort of your home! It’s stargazing\, reimagined.  \n*Note: Programming may be canceled due to inclement weather.  \n#YOUdirectourtelescope
URL:https://lowell.edu/event/live-interactive-stargazing-you-direct-our-telescope-on-june-23-2022/
LOCATION:YouTube
CATEGORIES:Virtual Event
ATTACH;FMTTYPE=image/jpeg:https://lowell.edu/wp-content/uploads/2022/06/interactive-stargazing-2.0.jpg
END:VEVENT
END:VCALENDAR